BEGIN:VCALENDAR
VERSION:2.0
METHOD:PUBLISH
X-WR-CALNAME:VFEK |  február 24 2009- február 24 2009
PRODID:-//strange bird labs//Drupal iCal API//EN
BEGIN:VEVENT
DTSTAMP;VALUE=DATE-TIME:20260421T032050Z
DTSTART;VALUE=DATE-TIME:20090217T160000Z
DTEND;VALUE=DATE-TIME:20090310T170000Z
UID:http://portal.vfmk.hu/011120080216
URL;VALUE=URI:http://portal.vfmk.hu/011120080216
SUMMARY:Téglás Béla kiállítása
DESCRIPTION:<p class=\\"rtecenter\\"><span style=\\"font-size\: small\;\\"><span style=\\"font-family\: Verdana\;\\">Tisztelettel megh&iacute\;vjuk &Ouml\;nt &eacute\;s ismerőseit<br />
 a Verseghy Ferenc Megyei K&ouml\;nyvt&aacute\;r<br />
 Műv&eacute\;szeti Szalonj&aacute\;ba<br />
 </span><span style=\\"font-size\: x-small\;\\"><span style=\\"font-family\: Verdana\;\\">[Szolnok\, Kossuth t&eacute\;r 2.\, 1. emelet]</span></span></span></p>
 <p class=\\"rtecenter\\"><strong><span style=\\"font-size\: small\;\\"><span style=\\"font-family\: Verdana\;\\">T&Eacute\;GL&Aacute\;S B&Eacute\;LA</span></span></strong><span style=\\"font-size\: small\;\\"><span style=\\"font-family\: Verdana\;\\"><br />
 fotogr&aacute\;fus</span></span></p>
 <p class=\\"rtecenter\\"><span style=\\"font-size\: small\;\\"><span style=\\"font-family\: Verdana\;\\">&quot\;... v&aacute\;logat&aacute\;sok ...&quot\; c. ki&aacute\;ll&iacute\;t&aacute\;s&aacute\;nak</span></span></p>
 <p class=\\"rtecenter\\"><span style=\\"font-size\: small\;\\"><span style=\\"font-family\: Verdana\;\\">megnyit&aacute\;s&aacute\;ra</span></span></p>
 <p class=\\"rtecenter\\"><span style=\\"font-size\: small\;\\"><span style=\\"font-family\: Verdana\;\\">A ki&aacute\;ll&iacute\;t&aacute\;st megnyitja\:<br />
 <strong>Barta Ilona</strong> grafikus</span></span></p>
 <p class=\\"rtecenter\\"><span style=\\"font-size\: x-small\;\\"><span><span style=\\"font-family\: Verdana\;\\">A ki&aacute\;ll&iacute\;t&aacute\;s megtekinthető a K&ouml\;nyvt&aacute\;r nyitvatart&aacute\;si idej&eacute\;ben\, <strong>2009. m&aacute\;rcius 10</strong>-ig.</span></span></span></p>
END:VEVENT
END:VCALENDAR
